BEGIN:VCALENDAR
VERSION:2.0
PRODID:-//HR Norge - arrangement//hrnorge.no//NO
CALSCALE:GREGORIAN
BEGIN:VEVENT
STATUS:CONFIRMED
UID:969e754669277f@hrnorge.no
DTSTAMP:20260421T124142
DTSTART:20250424T150000
DTEND:20250424T180000
SUMMARY:HR Norge: HR-nettverk i Rogaland
DESCRIPTION:<p><strong>Bli med i HR-nettverket i Stavanger</strong></p>
X-ALT-DESC;FMTTYPE=text/html:<p><strong>Bli med i HR-nettverket i Stavanger</strong></p>
URL;VALUE=URI:https://hrnorge.upgrade.web07-dev-dub1.seeds.no/arrangement/hr-nettverk-i-rogaland
LOCATION:Rådhusgata 6\, 4306
ORGANIZER;CN=HR Norge:mailto:hrnorge@hrnorge.no
BEGIN:VALARM
TRIGGER:-PT15M
ACTION:DISPLAY
END:VALARM
TRANSP:OPAQUE
END:VEVENT
END:VCALENDAR