BEGIN:VCALENDAR
VERSION:2.0
PRODID:-//HR Norge - arrangement//hrnorge.no//NO
CALSCALE:GREGORIAN
BEGIN:VEVENT
STATUS:CONFIRMED
UID:9669e767b6f25f5@hrnorge.no
DTSTAMP:20260421T140406
DTSTART:20250325T083000
DTEND:20250325T110000
SUMMARY:HR Norge: HR Lønnsrapport 2025 - presentasjon i Trondheim
DESCRIPTION:<p><strong>Lønnsoppgjøret og HR Lønnsrapport 2025 - Trondheim</strong></p>
X-ALT-DESC;FMTTYPE=text/html:<p><strong>Lønnsoppgjøret og HR Lønnsrapport 2025 - Trondheim</strong></p>
URL;VALUE=URI:https://hrnorge.upgrade.web07-dev-dub1.seeds.no/arrangement/hr-lønnsrapport-2025---presentasjon-i-trondheim
LOCATION:
ORGANIZER;CN=HR Norge:mailto:hrnorge@hrnorge.no
BEGIN:VALARM
TRIGGER:-PT15M
ACTION:DISPLAY
END:VALARM
TRANSP:OPAQUE
END:VEVENT
END:VCALENDAR