BEGIN:VCALENDAR
VERSION:2.0
PRODID:-//HR Norge - arrangement//hrnorge.no//NO
CALSCALE:GREGORIAN
BEGIN:VEVENT
STATUS:CONFIRMED
UID:3769e751bec6232@hrnorge.no
DTSTAMP:20260421T123022
DTSTART:20260505T090000
DTEND:20260507T140000
SUMMARY:HR Norge: Arbeidsrett for statsansatte
DESCRIPTION:<p>Arbeidsforhold i staten reguleres dels av statsansatteloven og dels av arbeidsmiljøloven. I tillegg stiller forvaltningsloven\, offentlighetsloven og ulovfestede forvaltningsrettslige prinsipper krav til saksbehandlingen. Sammen med tariffavtaler\, personalreglement og andre interne føringer kan regelverket for statlige ansettelsesforhold virke overveldende.</p>
X-ALT-DESC;FMTTYPE=text/html:<p>Arbeidsforhold i staten reguleres dels av statsansatteloven og dels av arbeidsmiljøloven. I tillegg stiller forvaltningsloven\, offentlighetsloven og ulovfestede forvaltningsrettslige prinsipper krav til saksbehandlingen. Sammen med tariffavtaler\, personalreglement og andre interne føringer kan regelverket for statlige ansettelsesforhold virke overveldende.</p>
URL;VALUE=URI:https://hrnorge.upgrade.web07-dev-dub1.seeds.no/arrangement/arbeidsrett-for-statsansatte-17
LOCATION:
ORGANIZER;CN=HR Norge:mailto:hrnorge@hrnorge.no
BEGIN:VALARM
TRIGGER:-PT15M
ACTION:DISPLAY
END:VALARM
TRANSP:OPAQUE
END:VEVENT
END:VCALENDAR