BEGIN:VCALENDAR
VERSION:2.0
PRODID:-//HR Norge - arrangement//hrnorge.no//NO
CALSCALE:GREGORIAN
BEGIN:VEVENT
STATUS:CONFIRMED
UID:1369e9fbf38195e@hrnorge.no
DTSTAMP:20260423T130107
DTSTART:20260512T090000
DTEND:20260512T160000
SUMMARY:HR Norge: De vanskelige sykefraværssakene
DESCRIPTION:<p>Hvordan bør arbeidsgivere håndtere kompliserte sykefraværssaker?</p>
X-ALT-DESC;FMTTYPE=text/html:<p>Hvordan bør arbeidsgivere håndtere kompliserte sykefraværssaker?</p>
URL;VALUE=URI:https://hrnorge.upgrade.web07-dev-dub1.seeds.no/arrangement/de-vanskelige-sykefraværssakene-11
LOCATION:
ORGANIZER;CN=HR Norge:mailto:hrnorge@hrnorge.no
BEGIN:VALARM
TRIGGER:-PT15M
ACTION:DISPLAY
END:VALARM
TRANSP:OPAQUE
END:VEVENT
END:VCALENDAR