BEGIN:VCALENDAR
VERSION:2.0
PRODID:-//HR Norge - arrangement//hrnorge.no//NO
CALSCALE:GREGORIAN
BEGIN:VEVENT
STATUS:CONFIRMED
UID:14269e751bf65e45@hrnorge.no
DTSTAMP:20260421T123023
DTSTART:20260609T090000
DTEND:20260609T160000
SUMMARY:HR Norge: HR-analyser i Excel del 1
DESCRIPTION:<p>Velkommen til kurs med praktisk øvelse i hvordan gjennomføre og presentere analyser basert på HR-data.</p>
X-ALT-DESC;FMTTYPE=text/html:<p>Velkommen til kurs med praktisk øvelse i hvordan gjennomføre og presentere analyser basert på HR-data.</p>
URL;VALUE=URI:https://hrnorge.upgrade.web07-dev-dub1.seeds.no/arrangement/hr-analyser-i-excel-del-1-15
LOCATION:
ORGANIZER;CN=HR Norge:mailto:hrnorge@hrnorge.no
BEGIN:VALARM
TRIGGER:-PT15M
ACTION:DISPLAY
END:VALARM
TRANSP:OPAQUE
END:VEVENT
END:VCALENDAR