BEGIN:VCALENDAR
VERSION:2.0
PRODID:-//HR Norge - arrangement//hrnorge.no//NO
CALSCALE:GREGORIAN
BEGIN:VEVENT
STATUS:CONFIRMED
UID:2069e73f00d471a@hrnorge.no
DTSTAMP:20260421T111024
DTSTART:20260507T090000
DTEND:20260507T160000
SUMMARY:HR Norge: Kompetansedagen 2026 - live stream
DESCRIPTION:<p>Endringstakten i arbeidslivet har økt merkbart de siste årene. Kunstig intelligens er ikke lenger et framtidsscenario\, men en integrert del av mange virksomheters hverdag.</p>
X-ALT-DESC;FMTTYPE=text/html:<p>Endringstakten i arbeidslivet har økt merkbart de siste årene. Kunstig intelligens er ikke lenger et framtidsscenario\, men en integrert del av mange virksomheters hverdag.</p>
URL;VALUE=URI:https://hrnorge.upgrade.web07-dev-dub1.seeds.no/arrangement/kompetansedagen-2026---live-stream
LOCATION:
ORGANIZER;CN=HR Norge:mailto:hrnorge@hrnorge.no
BEGIN:VALARM
TRIGGER:-PT15M
ACTION:DISPLAY
END:VALARM
TRANSP:OPAQUE
END:VEVENT
END:VCALENDAR