BEGIN:VCALENDAR
VERSION:2.0
PRODID:-//HR Norge - arrangement//hrnorge.no//NO
CALSCALE:GREGORIAN
BEGIN:VEVENT
STATUS:CONFIRMED
UID:9269e751bf4242e@hrnorge.no
DTSTAMP:20260421T123023
DTSTART:20260604T090000
DTEND:20260604T120000
SUMMARY:HR Norge: Pensjonskonferansen 2026 - digital
DESCRIPTION:
X-ALT-DESC;FMTTYPE=text/html:
URL;VALUE=URI:https://hrnorge.upgrade.web07-dev-dub1.seeds.no/arrangement/pensjonskonferansen-2026---digital
LOCATION:
ORGANIZER;CN=HR Norge:mailto:hrnorge@hrnorge.no
BEGIN:VALARM
TRIGGER:-PT15M
ACTION:DISPLAY
END:VALARM
TRANSP:OPAQUE
END:VEVENT
END:VCALENDAR